BEGIN:VCALENDAR
VERSION:2.0
PRODID:-//Museo del Burattino di Bergamo - ECPv5.13.0//NONSGML v1.0//EN
CALSCALE:GREGORIAN
METHOD:PUBLISH
X-WR-CALNAME:Museo del Burattino di Bergamo
X-ORIGINAL-URL:https://fondazioneravasio.it/museo
X-WR-CALDESC:Eventi per Museo del Burattino di Bergamo
BEGIN:VTIMEZONE
TZID:Europe/Rome
BEGIN:DAYLIGHT
TZOFFSETFROM:+0100
TZOFFSETTO:+0200
TZNAME:CEST
DTSTART:20220327T010000
END:DAYLIGHT
BEGIN:STANDARD
TZOFFSETFROM:+0200
TZOFFSETTO:+0100
TZNAME:CET
DTSTART:20221030T010000
END:STANDARD
END:VTIMEZONE
BEGIN:VEVENT
DTSTART;TZID=Europe/Rome:20220228T153000
DTEND;TZID=Europe/Rome:20220228T170000
DTSTAMP:20260421T161856
CREATED:20211116T163755Z
LAST-MODIFIED:20220221T102314Z
UID:17145-1646062200-1646067600@fondazioneravasio.it
SUMMARY:Gioppino e Brighella servitori malandrini - Spettacolo con i burattini di Daniele Cortesi
DESCRIPTION:Lunedì 28 Febbraio · ore 15.30Auditorium Piazza Libertà \nGioppino e Brighella servitori malandriniCon i burattini di Daniele Cortesi \nSpettacolo di burattini — Per tutti\, dai 5 anniIngresso: 7 € — Prenotazioni: fondazioneravasio.eventbrite.it \nBrighella\, aiuto farmacista del dr. Tartaglia\, assume in farmacia l’amico Gioppino che è senza lavoro. Appena possono i due servitori imbrogliano i clienti\, spacciandosi per famosi medici. Gli esiti delle loro “operazioni” sono talmente rovinosi che i due\, una volta scoperti\, vengono licenziati in tronco. Con l’aiuto di frate Bonario\, i due malandrini trovano una nuova occupazione che li porta al centro di un misterioso intrigo.
URL:https://fondazioneravasio.it/museo/evento/cortesi/
LOCATION:Auditorium Piazza Libertà\, Via Norberto Duzioni\, 2\, Bergamo\, 24121\, Italia
CATEGORIES:Gioppino e i suoi fratelli,Spettacolo
ATTACH;FMTTYPE=image/jpeg:https://fondazioneravasio.it/museo/wp-content/uploads/sites/2/2021/11/GIOPPINO-BRIGHELLA-MALANDRINI-3-scaled.jpg
END:VEVENT
END:VCALENDAR