BEGIN:VCALENDAR
VERSION:2.0
PRODID:-//Museo del Burattino di Bergamo - ECPv5.13.0//NONSGML v1.0//EN
CALSCALE:GREGORIAN
METHOD:PUBLISH
X-WR-CALNAME:Museo del Burattino di Bergamo
X-ORIGINAL-URL:https://fondazioneravasio.it/museo
X-WR-CALDESC:Eventi per Museo del Burattino di Bergamo
BEGIN:VTIMEZONE
TZID:Europe/Rome
BEGIN:DAYLIGHT
TZOFFSETFROM:+0100
TZOFFSETTO:+0200
TZNAME:CEST
DTSTART:20230326T010000
END:DAYLIGHT
BEGIN:STANDARD
TZOFFSETFROM:+0200
TZOFFSETTO:+0100
TZNAME:CET
DTSTART:20231029T010000
END:STANDARD
END:VTIMEZONE
BEGIN:VEVENT
DTSTART;TZID=Europe/Rome:20230220T113000
DTEND;TZID=Europe/Rome:20230320T123000
DTSTAMP:20260419T152804
CREATED:20221123T135135Z
LAST-MODIFIED:20230209T134333Z
UID:17493-1676892600-1679315400@fondazioneravasio.it
SUMMARY:Carrara&Burattini
DESCRIPTION:Carrara&Burattini\nVisita guidata teatralizzata \nLunedì 20 febbraio ore 11.30\nAccademia Carrara\nPiazza Giacomo Carrara\, 82 \nCompagnie presenti per Carrara&Burattini: Compagnia Carlo Colla & Figli (Milano); La Voce delle Cose (Bergamo); Annarita Colucci e Valeria D’Angela\, Illoco Teatro (Roma); Irene Vecchia con Cristina Vetrone (Napoli); Sophie Hames (Bergamo-Liegi).
URL:https://fondazioneravasio.it/museo/evento/corso-di-archivistica-per-il-teatro-di-figura-8-5/
LOCATION:Accademia Carrara\, Piazza G. Carrara\, 82\, Bergamo\, 24121\, Italia
CATEGORIES:Gioppino e i suoi fratelli 2023
ATTACH;FMTTYPE=image/jpeg:https://fondazioneravasio.it/museo/wp-content/uploads/sites/2/2023/02/5-carrara.jpg
END:VEVENT
END:VCALENDAR