BEGIN:VCALENDAR
VERSION:2.0
PRODID:-//Fondazione Ravasio - Museo del Burattino ETS - ECPv5.13.0//NONSGML v1.0//EN
CALSCALE:GREGORIAN
METHOD:PUBLISH
X-WR-CALNAME:Fondazione Ravasio - Museo del Burattino ETS
X-ORIGINAL-URL:https://fondazioneravasio.it
X-WR-CALDESC:Eventi per Fondazione Ravasio - Museo del Burattino ETS
BEGIN:VTIMEZONE
TZID:UTC
BEGIN:STANDARD
TZOFFSETFROM:+0000
TZOFFSETTO:+0000
TZNAME:UTC
DTSTART:20190101T000000
END:STANDARD
END:VTIMEZONE
BEGIN:VEVENT
DTSTART;TZID=UTC:20190810T170000
DTEND;TZID=UTC:20190810T190000
DTSTAMP:20260421T084003
CREATED:20190628T101221Z
LAST-MODIFIED:20190628T115908Z
UID:15665-1565456400-1565463600@fondazioneravasio.it
SUMMARY:Varietà Prestige
DESCRIPTION:Un omaggio al mondo del varietà e dell’avanspettacolo. Uno spettacolo che non vuole essere un nostalgico ricordo dei tempi che furono\, piuttosto un gioco. Piccoli quadri musicali in un gioco di commenti e battute tra la marionettista\, le sue marionette e il loro pubblico \nCompagnia: Francesca Zoccarato (UD)
URL:https://fondazioneravasio.it/event/varieta-prestige/
LOCATION:Piazza Vecchia\, Bergamo\, Piazza Vecchia\, Bergamo\, Bergamo\, 24129\, Italia
CATEGORIES:Borghi e Burattini 2019
ATTACH;FMTTYPE=image/jpeg:https://fondazioneravasio.it/wp-content/uploads/2019/06/prestige.jpg
ORGANIZER;CN="Fondazione%20Benedetto%20Ravasio":MAILTO:info@fondazioneravasio.it
END:VEVENT
END:VCALENDAR