BEGIN:VCALENDAR
VERSION:2.0
PRODID:-//Fondazione Ravasio - Museo del Burattino ETS - ECPv5.13.0//NONSGML v1.0//EN
CALSCALE:GREGORIAN
METHOD:PUBLISH
X-WR-CALNAME:Fondazione Ravasio - Museo del Burattino ETS
X-ORIGINAL-URL:https://fondazioneravasio.it
X-WR-CALDESC:Eventi per Fondazione Ravasio - Museo del Burattino ETS
BEGIN:VTIMEZONE
TZID:UTC
BEGIN:STANDARD
TZOFFSETFROM:+0000
TZOFFSETTO:+0000
TZNAME:UTC
DTSTART:20230101T000000
END:STANDARD
END:VTIMEZONE
BEGIN:VEVENT
DTSTART;TZID=UTC:20230917T173000
DTEND;TZID=UTC:20230917T183000
DTSTAMP:20260419T171213
CREATED:20230612T121541Z
LAST-MODIFIED:20230612T121541Z
UID:43183-1694971800-1694975400@fondazioneravasio.it
SUMMARY:Streghe\, Draghi e Maghi
DESCRIPTION:Streghe\, Draghi e Maghi\nI Burattini di Como \nDomenica 17 settembre ore 17.30\nPiazza Marconi\, Gorle \nSpettacolo\nIn caso di maltempo: Auditorium Centro Culturale\, Via Marconi 5\nIn occasione di “Conviviamo Gorle” \nIl solo pronunciare il nome di questi personaggi evoca i più bei mondi dove la fantasia vola libera. Con la maschera di Como Tavà e il drago Cotoletta vivremo un’avventura indimenticabile.
URL:https://fondazioneravasio.it/event/streghe-draghi-e-maghi/
LOCATION:Piazza Marconi\, Gorle\, Piazza Marconi\, Gorle\, Bergamo\, Italia
CATEGORIES:Borghi e Burattini 2023
ATTACH;FMTTYPE=image/jpeg:https://fondazioneravasio.it/wp-content/uploads/2023/06/gorle.jpg
ORGANIZER;CN="Fondazione%20Benedetto%20Ravasio":MAILTO:info@fondazioneravasio.it
END:VEVENT
END:VCALENDAR