BEGIN:VCALENDAR
VERSION:2.0
PRODID:-//Fondazione Ravasio - Museo del Burattino ETS - ECPv5.13.0//NONSGML v1.0//EN
CALSCALE:GREGORIAN
METHOD:PUBLISH
X-WR-CALNAME:Fondazione Ravasio - Museo del Burattino ETS
X-ORIGINAL-URL:https://fondazioneravasio.it
X-WR-CALDESC:Eventi per Fondazione Ravasio - Museo del Burattino ETS
BEGIN:VTIMEZONE
TZID:UTC
BEGIN:STANDARD
TZOFFSETFROM:+0000
TZOFFSETTO:+0000
TZNAME:UTC
DTSTART:20240101T000000
END:STANDARD
END:VTIMEZONE
BEGIN:VEVENT
DTSTART;TZID=UTC:20240905T210000
DTEND;TZID=UTC:20240905T220000
DTSTAMP:20260419T131950
CREATED:20240824T095837Z
LAST-MODIFIED:20240824T095837Z
UID:43634-1725570000-1725573600@fondazioneravasio.it
SUMMARY:Solo
DESCRIPTION:Solo\nCompagnia Broggini (VA) \nGiovedì 5 settembre ore 21.15\nDaste Bergamo\, via Daste e Spalenga 13 \nSpettacolo per adulti\netà consigliata dai 12 anni \n“Solo” è una riflessione rarefatta e sardonica sul tema della morte. Il lavoro è composto da alcuni sketches nei quali sono narrate le avventure e le vicissitudini di personaggi costretti ad affrontare l’umano ineluttabile destino e che tentano una resistenza ostinata quanto inutile. Lo spettacolo è giocato sul sottile confine tra macabro e ironico e presentato esclusivamente attraverso la comunicazione gestuale dei pupazzi\, senza uso del linguaggio verbale.
URL:https://fondazioneravasio.it/event/solo/
LOCATION:Daste Bergamo\, Via Daste e Spalenga 13\, Bergamo\, BG\, 24125\, Italia
CATEGORIES:Fili d'Arte 2024
ATTACH;FMTTYPE=image/jpeg:https://fondazioneravasio.it/wp-content/uploads/2024/08/solo.jpg
ORGANIZER;CN="Fondazione%20Benedetto%20Ravasio":MAILTO:info@fondazioneravasio.it
END:VEVENT
END:VCALENDAR