BEGIN:VCALENDAR
VERSION:2.0
PRODID:-//Fondazione Ravasio - Museo del Burattino ETS - ECPv5.13.0//NONSGML v1.0//EN
CALSCALE:GREGORIAN
METHOD:PUBLISH
X-WR-CALNAME:Fondazione Ravasio - Museo del Burattino ETS
X-ORIGINAL-URL:https://fondazioneravasio.it
X-WR-CALDESC:Eventi per Fondazione Ravasio - Museo del Burattino ETS
BEGIN:VTIMEZONE
TZID:UTC
BEGIN:STANDARD
TZOFFSETFROM:+0000
TZOFFSETTO:+0000
TZNAME:UTC
DTSTART:20220101T000000
END:STANDARD
END:VTIMEZONE
BEGIN:VEVENT
DTSTART;TZID=UTC:20220905T210000
DTEND;TZID=UTC:20220905T220000
DTSTAMP:20260419T130502
CREATED:20220606T093012Z
LAST-MODIFIED:20220606T093012Z
UID:42342-1662411600-1662415200@fondazioneravasio.it
SUMMARY:Meneghino e Brighella consiglieri d’amore
DESCRIPTION:Meneghino e Brighella consiglieri d’amore\nCompagnia Burattini Aldrighi (MI) \nLunedì 5 settembre ore 21\nCentro sportivo (area feste)\nVia Roma 2\, Gorle \nSpettacolo\nIn caso di maltempo: Tensostruttura Centro Sportivo\, via Roma 2. \nGiacometto per conquistare Rosabella segue i consigli del servitore Brighella. Trovandosi però invischiato in un terribile rapimento non gli resta che chiedere l’aiuto di Meneghino.
URL:https://fondazioneravasio.it/event/meneghino-e-brighella-consiglieri-damore-2/
LOCATION:Centro sportivo (area feste)\, Gorle\, Via Roma 2\, Gorle\, 24020\, Italia
CATEGORIES:Borghi e Burattini 2022,Le terre dei burattini 2022
ATTACH;FMTTYPE=image/jpeg:https://fondazioneravasio.it/wp-content/uploads/2022/06/meneghino-e-brighella.jpg
ORGANIZER;CN="Fondazione%20Benedetto%20Ravasio":MAILTO:info@fondazioneravasio.it
END:VEVENT
END:VCALENDAR