BEGIN:VCALENDAR
VERSION:2.0
PRODID:-//Fondazione Ravasio - Museo del Burattino ETS - ECPv5.13.0//NONSGML v1.0//EN
CALSCALE:GREGORIAN
METHOD:PUBLISH
X-WR-CALNAME:Fondazione Ravasio - Museo del Burattino ETS
X-ORIGINAL-URL:https://fondazioneravasio.it
X-WR-CALDESC:Eventi per Fondazione Ravasio - Museo del Burattino ETS
BEGIN:VTIMEZONE
TZID:UTC
BEGIN:STANDARD
TZOFFSETFROM:+0000
TZOFFSETTO:+0000
TZNAME:UTC
DTSTART:20250101T000000
END:STANDARD
END:VTIMEZONE
BEGIN:VEVENT
DTSTART;TZID=UTC:20250914T103000
DTEND;TZID=UTC:20250914T120000
DTSTAMP:20260423T121053
CREATED:20250901T145153Z
LAST-MODIFIED:20250901T145153Z
UID:43972-1757845800-1757851200@fondazioneravasio.it
SUMMARY:Lumen
DESCRIPTION:Lumen\nSilvio Gioia \nDomenica 14 settembre\, ore 10:30 \nMuseo del Burattino\nVia Torquato Tasso 8\, Bergamo \nLaboratorio\nPer genitori e figli dai 2 anni \n8 € (coppia genitore/figlio)\nCompreso ingresso al Museo \n  \nUno spazio magico\, dove nasce la luce e da essa si genera l’ombra.\nInsieme creeremo magici effetti di luci colorate\, con comuni oggetti di uso quotidiano.\nRiflessi di luci che riproducono sorprendenti mondi spaziali o fantastici. Un’occasione per i genitori di giocare insieme ai propri figli e figlie unendo la fantasia dei bambini all’esperienza dei genitori.
URL:https://fondazioneravasio.it/event/lumen-2/
LOCATION:Museo del Burattino\, Via Torquato Tasso\, 8\, Bergamo\, Italia
CATEGORIES:Fili d’Arte 2025
ATTACH;FMTTYPE=image/jpeg:https://fondazioneravasio.it/wp-content/uploads/2025/09/©VBerlanda2020_0072-1030x687-1.jpg
ORGANIZER;CN="Fondazione%20Benedetto%20Ravasio":MAILTO:info@fondazioneravasio.it
END:VEVENT
END:VCALENDAR