BEGIN:VCALENDAR
VERSION:2.0
PRODID:-//Fondazione Ravasio - Museo del Burattino ETS - ECPv5.13.0//NONSGML v1.0//EN
CALSCALE:GREGORIAN
METHOD:PUBLISH
X-WR-CALNAME:Fondazione Ravasio - Museo del Burattino ETS
X-ORIGINAL-URL:https://fondazioneravasio.it
X-WR-CALDESC:Eventi per Fondazione Ravasio - Museo del Burattino ETS
BEGIN:VTIMEZONE
TZID:UTC
BEGIN:STANDARD
TZOFFSETFROM:+0000
TZOFFSETTO:+0000
TZNAME:UTC
DTSTART:20200101T000000
END:STANDARD
END:VTIMEZONE
BEGIN:VEVENT
DTSTART;TZID=UTC:20200912T170000
DTEND;TZID=UTC:20200912T173000
DTSTAMP:20260419T163834
CREATED:20200717T153357Z
LAST-MODIFIED:20210916T081942Z
UID:16024-1599930000-1599931800@fondazioneravasio.it
SUMMARY:Live streaming: Pietro Roncelli - Compagnia Baracca  e Burattini\, Bergamo
DESCRIPTION:Compagnia fondata da Pietro Roncelli\, decano dei burattinai bergamaschi.\nLa sua passione per i burattini\, tramutata in lavoro\, nasce da bambino quando con stupore partecipa agli spettacoli nei cortili delle cascine di Almenno San Salvatore. Oggi è un dei più apprezzati e riconosciuti interpreti di Gioppino. \nPresentazione e dimostrazione-spettacolo con la farsa: “Gioppino e Brighella servi imbroglioni” \nConsegna IV PREMIO INTERNAZIONALE “PINA e BENEDETTO RAVASIO” ALLA CARRIERA a Pietro Roncelli\nPietro Roncelli offre alla tradizione bergamasca del Teatro dei burattini una personale longeva interpretazione\, originale e solida al contempo\, e il suo Gioppino\, schietto e pragmatico\, ne è perfetta sintesi artistica.
URL:https://fondazioneravasio.it/event/live-streaming-pietro-roncelli-compagnia-baracca-e-burattini-bergamo/
LOCATION:Museo del Burattino\, Via Torquato Tasso\, 8\, Bergamo\, Italia
CATEGORIES:A regola d'arte,Borghi e Burattini 2020
ATTACH;FMTTYPE=image/jpeg:https://fondazioneravasio.it/wp-content/uploads/2020/07/656CC53C-5D75-42E6-AF73-663A2E39909F.jpeg
ORGANIZER;CN="Fondazione%20Benedetto%20Ravasio":MAILTO:info@fondazioneravasio.it
END:VEVENT
END:VCALENDAR