BEGIN:VCALENDAR
VERSION:2.0
PRODID:-//Fondazione Ravasio - Museo del Burattino ETS - ECPv5.13.0//NONSGML v1.0//EN
CALSCALE:GREGORIAN
METHOD:PUBLISH
X-WR-CALNAME:Fondazione Ravasio - Museo del Burattino ETS
X-ORIGINAL-URL:https://fondazioneravasio.it
X-WR-CALDESC:Eventi per Fondazione Ravasio - Museo del Burattino ETS
BEGIN:VTIMEZONE
TZID:UTC
BEGIN:STANDARD
TZOFFSETFROM:+0000
TZOFFSETTO:+0000
TZNAME:UTC
DTSTART:20250101T000000
END:STANDARD
END:VTIMEZONE
BEGIN:VEVENT
DTSTART;TZID=UTC:20250704T193000
DTEND;TZID=UTC:20250704T203000
DTSTAMP:20260423T133839
CREATED:20250701T074934Z
LAST-MODIFIED:20250701T074934Z
UID:43895-1751657400-1751661000@fondazioneravasio.it
SUMMARY:IX Premio “Giuseppina e Benedetto Ravasio” alla Carriera
DESCRIPTION:IX Premio “Giuseppina e Benedetto Ravasio” alla Carriera\nEnrico Spinelli – Pupi di Stac (FI) \nVenerdì 4 luglio ore 19:30\nBergamo Alta – Palazzo Moroni\, Via Porta Dipinta 12 \nIngresso a pagamento*\nAnche in caso di maltempo \nUna storia che nasce a Firenze nel 1946 quella di Pupi di Stac\, compagnia di teatro di figura che produce e rappresenta spettacoli di burattini in Italia e Europa. Enrico Spinelli ha preso l’eredità del fondatore Carlo Staccioli e Laura Poli\, portando avanti questa storica tradizione. \n* Ingresso completo (Palazzo + giardini + spettacolo)11€ i ntero\nGratuito soci FAI\, Ridotti disponibili (giovani\, studenti\, famiglie\, ecc.)\nBiglietteria aperta fino alle ore 18:30 (ultimo ingresso)\nPrevendita: fondoambiente.it/luoghi/palazzo-moroni\nIngresso ridotto (Giardini + spettacolo): 5€\nAcquisto dalle ore 17:00 solo presso la biglietteria
URL:https://fondazioneravasio.it/event/ix-premio-giuseppina-e-benedetto-ravasio-alla-carriera/
LOCATION:Palazzo Moroni\, Bergamo\, Via Porta Dipinta 12\, Bergamo\, 24129\, Italy
CATEGORIES:Fili d’Arte 2025
ATTACH;FMTTYPE=image/jpeg:https://fondazioneravasio.it/wp-content/uploads/2025/07/Premio-enrico-spinelli-e-i-pupi-di-stac.jpg
ORGANIZER;CN="Fondazione%20Benedetto%20Ravasio":MAILTO:info@fondazioneravasio.it
END:VEVENT
END:VCALENDAR