BEGIN:VCALENDAR
VERSION:2.0
PRODID:-//Fondazione Ravasio - Museo del Burattino ETS - ECPv5.13.0//NONSGML v1.0//EN
CALSCALE:GREGORIAN
METHOD:PUBLISH
X-WR-CALNAME:Fondazione Ravasio - Museo del Burattino ETS
X-ORIGINAL-URL:https://fondazioneravasio.it
X-WR-CALDESC:Eventi per Fondazione Ravasio - Museo del Burattino ETS
BEGIN:VTIMEZONE
TZID:UTC
BEGIN:STANDARD
TZOFFSETFROM:+0000
TZOFFSETTO:+0000
TZNAME:UTC
DTSTART:20220101T000000
END:STANDARD
END:VTIMEZONE
BEGIN:VEVENT
DTSTART;TZID=UTC:20221228T153000
DTEND;TZID=UTC:20221228T170000
DTSTAMP:20260419T125357
CREATED:20221123T080634Z
LAST-MODIFIED:20221123T080634Z
UID:42540-1672241400-1672246800@fondazioneravasio.it
SUMMARY:Il giardino del Re
DESCRIPTION:Il giardino del Re\nPupi di Stac (Firenze) \nMercoledì 28 Dicembre ore 15:30\nTeatro S. Andrea\nBergamo Alta \nTeatro di burattini. Per tutti\, dai 3 anni. \nLa nonna racconta tre storie: “La fiaba della fanciulla e il fiore”\, “La novella dei due gobbi” e “La filastrocca di Petuzzo”. Attraverso filastrocche\, canti e giochi\, i piccoli spettatori vengono invitati a interagire con i burattini. \nBiglietti\nAdulti e bambini dai 3 anni: 7 euro\nRepliche scolastiche: 6 euro\nI biglietti sono in vendita alle casse\, un’ora prima dell’inizio spettacoli.
URL:https://fondazioneravasio.it/event/il-giardino-del-re-2/
LOCATION:Teatro Sant’Andrea\, Via Porta Dipinta 37\, Bergamo\, Italia
CATEGORIES:Burattini a Natale 2022-23
ATTACH;FMTTYPE=image/jpeg:https://fondazioneravasio.it/wp-content/uploads/2022/11/giardino-re.jpg
ORGANIZER;CN="Fondazione%20Benedetto%20Ravasio":MAILTO:info@fondazioneravasio.it
END:VEVENT
END:VCALENDAR