BEGIN:VCALENDAR
VERSION:2.0
PRODID:-//Fondazione Ravasio - Museo del Burattino ETS - ECPv5.13.0//NONSGML v1.0//EN
CALSCALE:GREGORIAN
METHOD:PUBLISH
X-WR-CALNAME:Fondazione Ravasio - Museo del Burattino ETS
X-ORIGINAL-URL:https://fondazioneravasio.it
X-WR-CALDESC:Eventi per Fondazione Ravasio - Museo del Burattino ETS
BEGIN:VTIMEZONE
TZID:UTC
BEGIN:STANDARD
TZOFFSETFROM:+0000
TZOFFSETTO:+0000
TZNAME:UTC
DTSTART:20250101T000000
END:STANDARD
END:VTIMEZONE
BEGIN:VEVENT
DTSTART;TZID=UTC:20250725T180000
DTEND;TZID=UTC:20250725T190000
DTSTAMP:20260419T200625
CREATED:20250617T162123Z
LAST-MODIFIED:20250617T162123Z
UID:43791-1753466400-1753470000@fondazioneravasio.it
SUMMARY:Il castello di Tremalaterra
DESCRIPTION:Il castello di Tremalaterra\nCompagnia L’Aprisogni (TV) \nVenerdì 25 luglio ore 18:00\nNembro – Piazza della Libertà \nSpettacolo\nIn caso di maltempo: Auditorium Modernissimo \nNel castello di Tremalaterra un oscuro mago si oppone alle nozze della giovane Rosina. Toccherà ai goffi servi Sisto e Miseria affrontare mostri e magie per salvarla.
URL:https://fondazioneravasio.it/event/il-castello-di-tremalaterra-2/
LOCATION:Nembro – Piazza della Libertà\, Piazza della Libertà\, Nembro\, 24027\, Italy
CATEGORIES:Borghi e Burattini 2025
ATTACH;FMTTYPE=image/jpeg:https://fondazioneravasio.it/wp-content/uploads/2025/06/25-LUGLIO-NEMBRO.jpg
ORGANIZER;CN="Fondazione%20Benedetto%20Ravasio":MAILTO:info@fondazioneravasio.it
END:VEVENT
END:VCALENDAR