BEGIN:VCALENDAR
VERSION:2.0
PRODID:-//Fondazione Ravasio - Museo del Burattino ETS - ECPv5.13.0//NONSGML v1.0//EN
CALSCALE:GREGORIAN
METHOD:PUBLISH
X-WR-CALNAME:Fondazione Ravasio - Museo del Burattino ETS
X-ORIGINAL-URL:https://fondazioneravasio.it
X-WR-CALDESC:Eventi per Fondazione Ravasio - Museo del Burattino ETS
BEGIN:VTIMEZONE
TZID:UTC
BEGIN:STANDARD
TZOFFSETFROM:+0000
TZOFFSETTO:+0000
TZNAME:UTC
DTSTART:20230101T000000
END:STANDARD
END:VTIMEZONE
BEGIN:VEVENT
DTSTART;TZID=UTC:20230630T203000
DTEND;TZID=UTC:20230630T213000
DTSTAMP:20260422T092558
CREATED:20230612T113406Z
LAST-MODIFIED:20230620T170942Z
UID:43123-1688157000-1688160600@fondazioneravasio.it
SUMMARY:Il Barbiere di Siviglia
DESCRIPTION:Il Barbiere di Siviglia\nCompagnia Burattini di Riccardo (BO) in collaborazione con Burattini a Bologna Aps \nVenerdì 30 giugno ore 20.45\nCortile fratelli Quarti\nVia Torquato Tasso 8\, Bergamo \nSpettacolo\nBiglietti: 5 € dai 3 anni in poi\nPrenotazioni su Eventbrite.it\nIn caso di maltempo: Museo del Burattino \nUna versione scoppiettante e originale del celebre capolavoro rossiniano\, trasposizione del libretto d’opera per il teatro dei burattini bolognesi.
URL:https://fondazioneravasio.it/event/il-barbiere-di-siviglia/
LOCATION:Cortile Fratelli Quarti\, Via Torquato Tasso 8\, Bergamo\, 24121\, Italia
CATEGORIES:Borghi e Burattini 2023
ATTACH;FMTTYPE=image/jpeg:https://fondazioneravasio.it/wp-content/uploads/2023/06/siviglia.jpg
ORGANIZER;CN="Fondazione%20Benedetto%20Ravasio":MAILTO:info@fondazioneravasio.it
END:VEVENT
END:VCALENDAR