BEGIN:VCALENDAR
VERSION:2.0
PRODID:-//Fondazione Ravasio - Museo del Burattino ETS - ECPv5.13.0//NONSGML v1.0//EN
CALSCALE:GREGORIAN
METHOD:PUBLISH
X-WR-CALNAME:Fondazione Ravasio - Museo del Burattino ETS
X-ORIGINAL-URL:https://fondazioneravasio.it
X-WR-CALDESC:Eventi per Fondazione Ravasio - Museo del Burattino ETS
BEGIN:VTIMEZONE
TZID:UTC
BEGIN:STANDARD
TZOFFSETFROM:+0000
TZOFFSETTO:+0000
TZNAME:UTC
DTSTART:20250101T000000
END:STANDARD
END:VTIMEZONE
BEGIN:VEVENT
DTSTART;TZID=UTC:20250824T160000
DTEND;TZID=UTC:20250824T170000
DTSTAMP:20260419T165539
CREATED:20250723T075100Z
LAST-MODIFIED:20250723T075118Z
UID:43934-1756051200-1756054800@fondazioneravasio.it
SUMMARY:Gioppino polenta e cotechino
DESCRIPTION:Gioppino polenta e cotechino\nBaraca & Böratì di Pietro Roncelli e Gabriele Codognola (BG) \nDomenica 24 agosto ore 16:00\nCastel Rozzone – Piazza Castello \nSpettacolo\nAnche in caso di maltempo \nNel regno di Cotechino\, la popolazione è terrorizzata dall’armata del Conte Taramotto. Gioppino si unisce all’esercito senza conoscere le vere intenzioni del Conte. Scoperta la sua vera natura\, riuscirà Gioppino\, insieme al nuovo amico Arturo\, a riportare la pace?
URL:https://fondazioneravasio.it/event/gioppino-polenta-e-cotechino-4/
LOCATION:Piazza Castello\, Castel Rozzone\, Piazza Castello\, Castel Rozzone\, BG\, 24040\, Italy
CATEGORIES:Borghi e Burattini 2025
ATTACH;FMTTYPE=image/jpeg:https://fondazioneravasio.it/wp-content/uploads/2025/06/13-LUGLIO-.jpg
ORGANIZER;CN="Fondazione%20Benedetto%20Ravasio":MAILTO:info@fondazioneravasio.it
END:VEVENT
END:VCALENDAR