BEGIN:VCALENDAR
VERSION:2.0
PRODID:-//Fondazione Ravasio - Museo del Burattino ETS - ECPv5.13.0//NONSGML v1.0//EN
CALSCALE:GREGORIAN
METHOD:PUBLISH
X-WR-CALNAME:Fondazione Ravasio - Museo del Burattino ETS
X-ORIGINAL-URL:https://fondazioneravasio.it
X-WR-CALDESC:Eventi per Fondazione Ravasio - Museo del Burattino ETS
BEGIN:VTIMEZONE
TZID:UTC
BEGIN:STANDARD
TZOFFSETFROM:+0000
TZOFFSETTO:+0000
TZNAME:UTC
DTSTART:20220101T000000
END:STANDARD
END:VTIMEZONE
BEGIN:VEVENT
DTSTART;TZID=UTC:20220828T160000
DTEND;TZID=UTC:20220828T170000
DTSTAMP:20260421T084158
CREATED:20220606T102234Z
LAST-MODIFIED:20220606T102234Z
UID:42400-1661702400-1661706000@fondazioneravasio.it
SUMMARY:Gioppino e la principessa stregata
DESCRIPTION:Gioppino e la principessa stregata\nI Burattini Baccanelli (BG) \nDomenica 28 agosto ore 16\nCortile Palazzo Comunale\nPiazza Castello 2\, Castel Rozzone \nSpettacolo\nIn caso di maltempo: Sala Polivalente Palazzo Comunale\, piazza Castello 2. \nCon l’intento di usurpare il regno a Re Gustavo\, la Strega Maccherona lancia un tremendo maleficio sulla Principessa. Non resta che affidarsi all’intervento dell’intrepido Gioppino.
URL:https://fondazioneravasio.it/event/gioppino-e-la-principessa-stregata-5/
LOCATION:Cortile Palazzo Comunale\, Castel Rozzone\, Piazza Castello 2\, Castel Rozzone\, 24040\, Italia
CATEGORIES:Borghi e Burattini 2022
ATTACH;FMTTYPE=image/jpeg:https://fondazioneravasio.it/wp-content/uploads/2022/06/gioppino-e-la-principessa.jpg
ORGANIZER;CN="Fondazione%20Benedetto%20Ravasio":MAILTO:info@fondazioneravasio.it
END:VEVENT
END:VCALENDAR