BEGIN:VCALENDAR
VERSION:2.0
PRODID:-//Fondazione Ravasio - Museo del Burattino ETS - ECPv5.13.0//NONSGML v1.0//EN
CALSCALE:GREGORIAN
METHOD:PUBLISH
X-WR-CALNAME:Fondazione Ravasio - Museo del Burattino ETS
X-ORIGINAL-URL:https://fondazioneravasio.it
X-WR-CALDESC:Eventi per Fondazione Ravasio - Museo del Burattino ETS
BEGIN:VTIMEZONE
TZID:UTC
BEGIN:STANDARD
TZOFFSETFROM:+0000
TZOFFSETTO:+0000
TZNAME:UTC
DTSTART:20200101T000000
END:STANDARD
END:VTIMEZONE
BEGIN:VEVENT
DTSTART;TZID=UTC:20200912T203000
DTEND;TZID=UTC:20200912T213000
DTSTAMP:20260419T145056
CREATED:20200904T170608Z
LAST-MODIFIED:20200904T170632Z
UID:16054-1599942600-1599946200@fondazioneravasio.it
SUMMARY:"Gioppino e la grande avventura fantastica" con I Burattini Bonacina di Bergamo
DESCRIPTION:La Compagnia I burattini Bonacina porta in scena una divertente commedia ispirata alla tradizione bergamasca del Teatro dei Burattini.
URL:https://fondazioneravasio.it/event/gioppino-e-la-grande-avventura-fantastica-con-i-burattini-bonacina-di-bergamo/
LOCATION:Oratorio San Giovanni Bosco\, Spirano\, via Monte Grappa\, 13\, Spirano\, BG\, 24050\, Italia
CATEGORIES:Borghi e Burattini 2020
ATTACH;FMTTYPE=image/jpeg:https://fondazioneravasio.it/wp-content/uploads/2020/09/bonacina.jpg
ORGANIZER;CN="Fondazione%20Benedetto%20Ravasio":MAILTO:info@fondazioneravasio.it
END:VEVENT
END:VCALENDAR