BEGIN:VCALENDAR
VERSION:2.0
PRODID:-//Fondazione Ravasio - Museo del Burattino ETS - ECPv5.13.0//NONSGML v1.0//EN
CALSCALE:GREGORIAN
METHOD:PUBLISH
X-WR-CALNAME:Fondazione Ravasio - Museo del Burattino ETS
X-ORIGINAL-URL:https://fondazioneravasio.it
X-WR-CALDESC:Eventi per Fondazione Ravasio - Museo del Burattino ETS
BEGIN:VTIMEZONE
TZID:UTC
BEGIN:STANDARD
TZOFFSETFROM:+0000
TZOFFSETTO:+0000
TZNAME:UTC
DTSTART:20220101T000000
END:STANDARD
END:VTIMEZONE
BEGIN:VEVENT
DTSTART;TZID=UTC:20221218T153000
DTEND;TZID=UTC:20221218T170000
DTSTAMP:20260419T171847
CREATED:20221123T080020Z
LAST-MODIFIED:20221123T080020Z
UID:42526-1671377400-1671382800@fondazioneravasio.it
SUMMARY:Gioppino alla corte del Re di Persia
DESCRIPTION:Gioppino alla corte del Re di Persia\nBaracca&Burattini di Pietro Roncelli (Bergamo) \nDomenica 18 Dicembre ore 15.30\nAuditorium Ermanno Olmi\nBergamo \nTeatro di burattini. Per tutti\, dai 4 anni. \nGioppino\, rimasto senza soldi e lavoro\, imbrogliato da quel furbastro di Brighella\, decide di chiedere l’elemosina. Gli appare in aiuto un mago buono. Sapendo che Gioppino è generoso\, forte e coraggioso\, lo conduce in Persia per liberare la principessa Rosaura\, rapita da un malefico mago. Arrivati a bordo di un tappeto volante\, dopo molte disavventure\, Gioppino\, grazie a un talismano\, riesce a trionfare. \nBiglietti\nAdulti e bambini dai 3 anni: 7 euro\nRepliche scolastiche: 6 euro\nI biglietti sono in vendita alle casse\, un’ora prima dell’inizio spettacoli.
URL:https://fondazioneravasio.it/event/gioppino-alla-corte-del-re-di-persia-5/
LOCATION:Auditorium Ermanno Olmi\, Via Gennaro Sora\, 4\, Bergamo\, BG\, 24121\, Italia
CATEGORIES:Burattini a Natale 2022-23
ATTACH;FMTTYPE=image/jpeg:https://fondazioneravasio.it/wp-content/uploads/2022/11/gioppino-persia.jpg
ORGANIZER;CN="Fondazione%20Benedetto%20Ravasio":MAILTO:info@fondazioneravasio.it
END:VEVENT
END:VCALENDAR