BEGIN:VCALENDAR
VERSION:2.0
PRODID:-//Fondazione Ravasio - Museo del Burattino ETS - ECPv5.13.0//NONSGML v1.0//EN
CALSCALE:GREGORIAN
METHOD:PUBLISH
X-WR-CALNAME:Fondazione Ravasio - Museo del Burattino ETS
X-ORIGINAL-URL:https://fondazioneravasio.it
X-WR-CALDESC:Eventi per Fondazione Ravasio - Museo del Burattino ETS
BEGIN:VTIMEZONE
TZID:UTC
BEGIN:STANDARD
TZOFFSETFROM:+0000
TZOFFSETTO:+0000
TZNAME:UTC
DTSTART:20220101T000000
END:STANDARD
END:VTIMEZONE
BEGIN:VEVENT
DTSTART;TZID=UTC:20221015T153000
DTEND;TZID=UTC:20221015T163000
DTSTAMP:20260421T081714
CREATED:20220606T102529Z
LAST-MODIFIED:20220923T133653Z
UID:42409-1665847800-1665851400@fondazioneravasio.it
SUMMARY:Gioppino a Venezia in cerca di fortuna
DESCRIPTION:Gioppino a Venezia in cerca di fortuna\nBaracca&Burattini di Pietro Roncelli con Gabriele Codognola (BG) \nSabato 24 settembre ore 16.30 \nSabato 15 ottobre ore 15.30 NUOVA DATA!\nVia Vittorio Emanuele II 20\nCalusco d’Adda \nSpettacolo offerto da Ottica Carminati\nIn caso di maltempo: Centro Civico San Fedele\, viale dei Tigli 138. \nGioppino si reca a Venezia in cerca di fortuna ma si troverà coinvolto in un’intricata avventura\, tra prove di coraggio\, una scorpacciata in cantina e un duello finale.
URL:https://fondazioneravasio.it/event/gioppino-a-venezia-in-cerca-di-fortuna-4/
LOCATION:Via Vittorio Emanuele II 20\, Calusco d’Adda\, Via Vittorio Emanuele II 20\, Calusco d’Adda\, 24033\, Italia
CATEGORIES:Borghi e Burattini 2022
ATTACH;FMTTYPE=image/jpeg:https://fondazioneravasio.it/wp-content/uploads/2022/06/gioppino-a-venezia2.jpg
ORGANIZER;CN="Fondazione%20Benedetto%20Ravasio":MAILTO:info@fondazioneravasio.it
END:VEVENT
END:VCALENDAR