BEGIN:VCALENDAR
VERSION:2.0
PRODID:-//Fondazione Ravasio - Museo del Burattino ETS - ECPv5.13.0//NONSGML v1.0//EN
CALSCALE:GREGORIAN
METHOD:PUBLISH
X-WR-CALNAME:Fondazione Ravasio - Museo del Burattino ETS
X-ORIGINAL-URL:https://fondazioneravasio.it
X-WR-CALDESC:Eventi per Fondazione Ravasio - Museo del Burattino ETS
BEGIN:VTIMEZONE
TZID:UTC
BEGIN:STANDARD
TZOFFSETFROM:+0000
TZOFFSETTO:+0000
TZNAME:UTC
DTSTART:20250101T000000
END:STANDARD
END:VTIMEZONE
BEGIN:VEVENT
DTSTART;TZID=UTC:20250803T203000
DTEND;TZID=UTC:20250803T213000
DTSTAMP:20260419T202516
CREATED:20250617T163324Z
LAST-MODIFIED:20250617T163324Z
UID:43822-1754253000-1754256600@fondazioneravasio.it
SUMMARY:Fagiolino e il terribile Cavalier Sbragafegati
DESCRIPTION:Fagiolino e il terribile Cavalier Sbragafegati\nI Burattini di Mattia (BO) \nDomenica 3 agosto ore 20:45\nPrezzate di Mapello – Arena del Parco\, Via Teoperga \nSpettacolo\nIn caso di maltempo: Ex chiesa di Sant’Alberto\, Via 24 Maggio \nIl Cavalier Sbragafegati\, pieno di debiti\, tenta di sposare la figlia di Donna Eleonora per interesse\, ma al rifiuto passa alle minacce. Disperata\, Eleonora chiede aiuto a Fagiolino. Con astuzia e coraggio\, il nostro eroe metterà il Cavaliere al suo posto!
URL:https://fondazioneravasio.it/event/fagiolino-e-il-terribile-cavalier-sbragafegati-3/
LOCATION:Arena del Parco\, Mapello\, Via Teoperga\, Prezzate di Mapello\, Bergamo\, Italia
CATEGORIES:Borghi e Burattini 2025
ATTACH;FMTTYPE=image/jpeg:https://fondazioneravasio.it/wp-content/uploads/2025/06/3-AGOSTO-jpg.jpg
ORGANIZER;CN="Fondazione%20Benedetto%20Ravasio":MAILTO:info@fondazioneravasio.it
END:VEVENT
END:VCALENDAR