BEGIN:VCALENDAR
VERSION:2.0
PRODID:-//Fondazione Ravasio - Museo del Burattino ETS - ECPv5.13.0//NONSGML v1.0//EN
CALSCALE:GREGORIAN
METHOD:PUBLISH
X-WR-CALNAME:Fondazione Ravasio - Museo del Burattino ETS
X-ORIGINAL-URL:https://fondazioneravasio.it
X-WR-CALDESC:Eventi per Fondazione Ravasio - Museo del Burattino ETS
BEGIN:VTIMEZONE
TZID:UTC
BEGIN:STANDARD
TZOFFSETFROM:+0000
TZOFFSETTO:+0000
TZNAME:UTC
DTSTART:20250101T000000
END:STANDARD
END:VTIMEZONE
BEGIN:VEVENT
DTSTART;TZID=UTC:20250913T103000
DTEND;TZID=UTC:20250913T120000
DTSTAMP:20260419T145809
CREATED:20250901T144401Z
LAST-MODIFIED:20250901T145012Z
UID:43966-1757759400-1757764800@fondazioneravasio.it
SUMMARY:Dentro il teatrino
DESCRIPTION:Dentro il teatrino \nIn collaborazione con Teatro Prova\nCon Stefano Mecca (attore) e Gabriele Codognola (burattinaio) \nSabato 13 settembre\, ore 10:30 \nMuseo del Burattino\nVia Torquato Tasso 8\, Bergamo \nVisita teatralizzata\nPer tutti \n5 € per tutti\nCompreso ingresso al Museo \n  \nScoprire un museo non è mai stato così spettacolare!\nUn attore in carne e ossa e un’intera compagnia di burattini vi guideranno in un percorso sorprendente tra maschere\, storie e personaggi indimenticabili.\nLe sale del Museo del Burattino si animano grazie a una narrazione scenica che intreccia racconto e spettacolo\, portando grandi e piccoli alla scoperta del magico mondo del teatrino.
URL:https://fondazioneravasio.it/event/dentro-il-teatrino/
LOCATION:Museo del Burattino\, Via Torquato Tasso\, 8\, Bergamo\, Italia
CATEGORIES:Fili d’Arte 2025
ATTACH;FMTTYPE=image/jpeg:https://fondazioneravasio.it/wp-content/uploads/2025/09/13-luglio-visita-teatralizzata.jpg
ORGANIZER;CN="Fondazione%20Benedetto%20Ravasio":MAILTO:info@fondazioneravasio.it
END:VEVENT
END:VCALENDAR