BEGIN:VCALENDAR
VERSION:2.0
PRODID:-//Fondazione Ravasio - Museo del Burattino ETS - ECPv5.13.0//NONSGML v1.0//EN
CALSCALE:GREGORIAN
METHOD:PUBLISH
X-WR-CALNAME:Fondazione Ravasio - Museo del Burattino ETS
X-ORIGINAL-URL:https://fondazioneravasio.it
X-WR-CALDESC:Eventi per Fondazione Ravasio - Museo del Burattino ETS
BEGIN:VTIMEZONE
TZID:UTC
BEGIN:STANDARD
TZOFFSETFROM:+0000
TZOFFSETTO:+0000
TZNAME:UTC
DTSTART:20240101T000000
END:STANDARD
END:VTIMEZONE
BEGIN:VEVENT
DTSTART;TZID=UTC:20240906T180000
DTEND;TZID=UTC:20240906T190000
DTSTAMP:20260419T164217
CREATED:20240824T095932Z
LAST-MODIFIED:20240824T095932Z
UID:43636-1725645600-1725649200@fondazioneravasio.it
SUMMARY:Dario e Serena
DESCRIPTION:Dario e Serena\nTeatrino Pellidò (AN)\nco-produzione Museo Tattile Statale Omero (AN) \nVenerdì 6 settembre ore 18.00\nDaste Bergamo\, via Daste e Spalenga 13 \nSpettacolo dai 5 anni \nDario e Serena si amano e sono ciechi\, hanno studiato la storia dell’arte italiana e hanno per l’arte una grande passione. Per Dario e Serena l’arte ha molte forme e parla al nostro cuore\, alla nostra mente\, al nostro corpo\, tutta la bellezza dell’arte può arrivare a chiunque voglia amarla. L’arte appartiene anche a chi non vede\, così decidono di andare a visitare musei\, teatri e luoghi d’arte di tutto il mondo e di far aprire gli occhi ai direttori e agli studiosi sulle illimitate capacità dell’arte. Ispirato alla storia e al sogno di Aldo e Daniela\, che li ha portati a realizzare il Museo Omero di Ancona.
URL:https://fondazioneravasio.it/event/dario-e-serena/
LOCATION:Daste Bergamo\, Via Daste e Spalenga 13\, Bergamo\, BG\, 24125\, Italia
CATEGORIES:Fili d'Arte 2024
ATTACH;FMTTYPE=image/jpeg:https://fondazioneravasio.it/wp-content/uploads/2024/08/dario.jpeg
ORGANIZER;CN="Fondazione%20Benedetto%20Ravasio":MAILTO:info@fondazioneravasio.it
END:VEVENT
END:VCALENDAR